BEGIN:VCALENDAR
VERSION:2.0
PRODID:-//Mesa Del Sol Golf Club - ECPv6.15.20//NONSGML v1.0//EN
CALSCALE:GREGORIAN
METHOD:PUBLISH
X-WR-CALNAME:Mesa Del Sol Golf Club
X-ORIGINAL-URL:https://playmesadelsol.com
X-WR-CALDESC:Events for Mesa Del Sol Golf Club
REFRESH-INTERVAL;VALUE=DURATION:PT1H
X-Robots-Tag:noindex
X-PUBLISHED-TTL:PT1H
BEGIN:VTIMEZONE
TZID:UTC
BEGIN:STANDARD
TZOFFSETFROM:+0000
TZOFFSETTO:+0000
TZNAME:UTC
DTSTART:20230101T000000
END:STANDARD
END:VTIMEZONE
BEGIN:VEVENT
DTSTART;VALUE=DATE:20241207
DTEND;VALUE=DATE:20241209
DTSTAMP:20260421T125544
CREATED:20241004T215532Z
LAST-MODIFIED:20241008T230401Z
UID:2816-1733529600-1733702399@playmesadelsol.com
SUMMARY:Ladies Winter Classic Tournament
DESCRIPTION:2024 Ladies Winter Classic Partner Tournament at Mesa Del Sol Golf Club\nSaturday & Sunday\, December 7 & 8\, 2024\nRound 1 (Saturday) – Scramble     //       Round 2 (Sunday) – Best Ball\nWinner determined based on combined 2-day scores. Gross & net awards by flight and overall.\nTees: Green Tees – 5182 yards  (Rating/Slope = 68.8/116)\nHandicaps: USGA handicap required. Maximum 10 stroke differential between partners\nField/Flights: Field limited to first 40 teams (80 players).  Flights established based on entries.\nEntry Fee: $400 Per Team ($200 per player). Includes 36 holes golf\, cart\, range balls\, tee gift\, prize fund\, continental breakfast & lunch both days).\nEntry Form:  2024 MDS Ladies Winter Classic Entry Form\nRegister Online: https://playmesadelsol.com/ladies-winter-classic-entry-form/
URL:https://playmesadelsol.com/event/ladies-winter-classic-tournament-day-1/
END:VEVENT
END:VCALENDAR