BEGIN:VCALENDAR
VERSION:2.0
PRODID:-//Mesa Del Sol Golf Club - ECPv6.15.20//NONSGML v1.0//EN
CALSCALE:GREGORIAN
METHOD:PUBLISH
X-WR-CALNAME:Mesa Del Sol Golf Club
X-ORIGINAL-URL:https://playmesadelsol.com
X-WR-CALDESC:Events for Mesa Del Sol Golf Club
REFRESH-INTERVAL;VALUE=DURATION:PT1H
X-Robots-Tag:noindex
X-PUBLISHED-TTL:PT1H
BEGIN:VTIMEZONE
TZID:UTC
BEGIN:STANDARD
TZOFFSETFROM:+0000
TZOFFSETTO:+0000
TZNAME:UTC
DTSTART:20230101T000000
END:STANDARD
END:VTIMEZONE
BEGIN:VEVENT
DTSTART;TZID=UTC:20241203T150000
DTEND;TZID=UTC:20241203T160000
DTSTAMP:20260425T161255
CREATED:20241127T173630Z
LAST-MODIFIED:20241127T173630Z
UID:2862-1733238000-1733241600@playmesadelsol.com
SUMMARY:Pitch Shot Clinic with Marci Brock
DESCRIPTION:Pitch Shot Clinic\n30\,40 & 50 yard pitch shot with accuracy & control\nTuesday\, December 3rd @ 3pm\nFee: $20 cash\nPlace: Driving Range\nInstructor:  Marci Brock\, LPGA Professionals \nSign Up Sheet in Pro Shop
URL:https://playmesadelsol.com/event/pitch-shot-clinic-with-marci-brock/
END:VEVENT
END:VCALENDAR