BEGIN:VCALENDAR
VERSION:2.0
PRODID:-//Mesa Del Sol Golf Club - ECPv6.15.20//NONSGML v1.0//EN
CALSCALE:GREGORIAN
METHOD:PUBLISH
X-WR-CALNAME:Mesa Del Sol Golf Club
X-ORIGINAL-URL:https://playmesadelsol.com
X-WR-CALDESC:Events for Mesa Del Sol Golf Club
REFRESH-INTERVAL;VALUE=DURATION:PT1H
X-Robots-Tag:noindex
X-PUBLISHED-TTL:PT1H
BEGIN:VTIMEZONE
TZID:UTC
BEGIN:STANDARD
TZOFFSETFROM:+0000
TZOFFSETTO:+0000
TZNAME:UTC
DTSTART:20230101T000000
END:STANDARD
END:VTIMEZONE
BEGIN:VEVENT
DTSTART;TZID=UTC:20241115T160000
DTEND;TZID=UTC:20241115T170000
DTSTAMP:20260424T084201
CREATED:20241111T181623Z
LAST-MODIFIED:20241111T181952Z
UID:2840-1731686400-1731690000@playmesadelsol.com
SUMMARY:Putting Clinic with Marci Brock
DESCRIPTION:Putting Clinic with Marci Brock\, LPGA Professionals\nFriday\, November 15th @ 4pm\nLearn the skills of putting\, and drop more putts!\nMeet at the practice putting green.\nFee:  $20 cash\nSign Up Sheets in Pro Shop
URL:https://playmesadelsol.com/event/putting-clinic-with-marci-brock/
END:VEVENT
END:VCALENDAR